BEGIN:VCALENDAR
VERSION:2.0
PRODID:-//Gasthuiskapel Zaltbommel - ECPv6.15.20//NONSGML v1.0//EN
CALSCALE:GREGORIAN
METHOD:PUBLISH
X-ORIGINAL-URL:https://gasthuiskapel.nl
X-WR-CALDESC:Evenementen voor Gasthuiskapel Zaltbommel
REFRESH-INTERVAL;VALUE=DURATION:PT1H
X-Robots-Tag:noindex
X-PUBLISHED-TTL:PT1H
BEGIN:VTIMEZONE
TZID:UTC
BEGIN:STANDARD
TZOFFSETFROM:+0000
TZOFFSETTO:+0000
TZNAME:UTC
DTSTART:20250101T000000
END:STANDARD
END:VTIMEZONE
BEGIN:VEVENT
DTSTART;TZID=UTC:20260510T160000
DTEND;TZID=UTC:20260510T173000
DTSTAMP:20260422T102834
CREATED:20260421T083113Z
LAST-MODIFIED:20260421T083113Z
UID:2207-1778428800-1778434200@gasthuiskapel.nl
SUMMARY:Het Cugnon Consort speelt Schubert en Bruch
DESCRIPTION:Schubert en Bruch door Cugnon Consort\n \nHet Cugnon Project is een stichting met als doel jong muzikaal talent een podium te bieden te midden van professionele musici. Tegelijkertijd willen we onze liefde voor muziek delen met ons publiek door concerten en projecten te presenteren van hoog niveau.\n​\nIn mei 2011 verzamelden dertig professionele musici en muziekstudenten\, samengebracht door violist Chris Duindam\, zich in het kasteel van het Waalse dorpje Cugnon. Een week lang eindeloos musiceren in de verschillende kamers van het kasteel\, en concerten geven in de dorpjes eromheen. Samen eten koken en de keuken opruimen. Er groeit een gemeenschappelijk gevoel\, waarbij één ding centraal staat: de liefde voor de muziek. De jonge musici trekken zich op aan de professionals\, die zich op hun beurt door de jeugd laten inspireren. Een unieke situatie\, die fantastische concerten oplevert. Vanuit dit experiment ontstond het Cugnon Project met zijn huidige doelstellingen en activiteiten. \nHet Cugnon Project presenteert kamermuziekconcerten door heel Nederland. De ensembles worden ad hoc samengesteld\, zijn altijd een mix van professionals en jong talent\, en variëren in grootte van duo tot octet. Het repertoire is alles behalve standaard en reikt van bekende werken tot onbekendere parels zoals het octet van Enescu en het strijkkwintet van Bruckner. Ook waren de musici van het Cugnon Project de afgelopen jaren meerdere malen te gast op festivals in Italië\, o.a. op het Francigena International Arts Festival en het Punto Arte Festival van dirigent Jan Willem de Vriend. \nProgramma: \nFranz Schubert (1797-1828) \nStrijkkwartet D 804 – Rosamunde● Allegro ma non troppo● Andante● Menuetto: Allegro● Allegre mederato \nMax Bruch (1838-1920)● Allegro moderato● Adagio – Andante con moto di molto● Allegro molto \nZaal open: 15.30 uur\nKosten: € 22\,=\, kinderen tot 18 jaar gratis\nVoor info en reserveringen onder vermelding van het aantal personen en datum: engelenbak@gmail.com\nBetaling: gaarne vooraf betalen door overmaking naar IBAN NL18 RABO 0148 52 95 26 t.n.v. Stichting De Engelenbak\nPasse-partout voor alle 10 concerten 2025 – 2026: € 160\,=\nTjallien van Loon-de Jong: 06-14255605
URL:https://gasthuiskapel.nl/agenda/het-cugnon-consort-speelt-schubert-en-bruch/
CATEGORIES:Cultureel
ORGANIZER;CN="Stichting De Engelenbak Zaltbommel":MAILTO:engelenbak@gmail.com
END:VEVENT
END:VCALENDAR