BEGIN:VCALENDAR
VERSION:2.0
PRODID:-//Gasthuiskapel Zaltbommel - ECPv6.15.20//NONSGML v1.0//EN
CALSCALE:GREGORIAN
METHOD:PUBLISH
X-WR-CALNAME:Gasthuiskapel Zaltbommel
X-ORIGINAL-URL:https://gasthuiskapel.nl
X-WR-CALDESC:Evenementen voor Gasthuiskapel Zaltbommel
REFRESH-INTERVAL;VALUE=DURATION:PT1H
X-Robots-Tag:noindex
X-PUBLISHED-TTL:PT1H
BEGIN:VTIMEZONE
TZID:UTC
BEGIN:STANDARD
TZOFFSETFROM:+0000
TZOFFSETTO:+0000
TZNAME:UTC
DTSTART:20150101T000000
END:STANDARD
END:VTIMEZONE
BEGIN:VEVENT
DTSTART;TZID=UTC:20160306T143000
DTEND;TZID=UTC:20160306T163000
DTSTAMP:20260422T103341
CREATED:20160211T141851Z
LAST-MODIFIED:20160211T142605Z
UID:571-1457274600-1457281800@gasthuiskapel.nl
SUMMARY:Een winterreis - 17 zangers in de voetsporen van Schubert
DESCRIPTION:Een uitvoering van de Winterreise\, die fantastische en indringende liederencyclus van Schubert\, met een groep goede en bevlogen amateurzangers en zangeressen. In een vormgeving die de luisteraars meesleept in het verhaal. \nPeter van der Kamp een toegewijde en zeer beeldende pianist vertelt samen met de zangers het verhaal van een door zijn geliefde afgewezen jonge man\, onderweg door een ijzige natuur\, gekweld en achtervolgd door herinneringen en op zoek naar innerlijke vrede ………of de rust van het graf. \nEen kleine expositie van schilderijen door verschillende kunstenaars die geïnspireerd zijn door de Winterreise en een fraai vormgegeven boekje met de teksten van de gedichten\, achtergrondverhalen\, foto’s en illustraties zullen het concert begeleiden. \nRenée Wolters\, één van de schilders\, zal om 13.00 uur een inleiding verzorgen. \nVoor info en reserveringen: wintergroepsreis@gmail.com
URL:https://gasthuiskapel.nl/agenda/een-winterreis-17-zangers-in-de-voetsporen-van-schubert/
CATEGORIES:Cultureel
ORGANIZER;CN="Unnamed Organizer":MAILTO:wintergroepsreis@gmail.com
END:VEVENT
END:VCALENDAR