BEGIN:VCALENDAR
VERSION:2.0
PRODID:-//Gasthuiskapel Zaltbommel - ECPv6.15.20//NONSGML v1.0//EN
CALSCALE:GREGORIAN
METHOD:PUBLISH
X-WR-CALNAME:Gasthuiskapel Zaltbommel
X-ORIGINAL-URL:https://gasthuiskapel.nl
X-WR-CALDESC:Evenementen voor Gasthuiskapel Zaltbommel
REFRESH-INTERVAL;VALUE=DURATION:PT1H
X-Robots-Tag:noindex
X-PUBLISHED-TTL:PT1H
BEGIN:VTIMEZONE
TZID:UTC
BEGIN:STANDARD
TZOFFSETFROM:+0000
TZOFFSETTO:+0000
TZNAME:UTC
DTSTART:20190101T000000
END:STANDARD
END:VTIMEZONE
BEGIN:VEVENT
DTSTART;TZID=UTC:20200711T200000
DTEND;TZID=UTC:20200711T213000
DTSTAMP:20260422T102702
CREATED:20200623T082542Z
LAST-MODIFIED:20200623T082542Z
UID:1171-1594497600-1594503000@gasthuiskapel.nl
SUMMARY:Floris & Friends
DESCRIPTION:Floris & Friends\nTrompettist Floris Onstwedder treedt op samen met Ketevan Roinishvili (cello) en Sabien Canto (harp). \n \nZij hebben een programma samengesteld van spectaculaire klassieke muziek in een nieuw jasje. Muziek van o.a. J.S. Bach\, J.P. Rameau\, M. Ravel\, E. Oscher\, G. Gershwin en meer. Eerdere concerten van Floris & Friends werden door het publiek en critici omschreven als “Verbluffend”\, “Inventief” en “van het allerhoogste niveau”. \nFloris Onstwedder is een gevierd musicus en hij wordt internationaal geprezen vanwege zijn fabuleuze techniek\, zijn romantische spel en muzikaliteit. Hij beheerst het complete trompet repertoire en trad meermaals op voor de Koninklijke Familie\, schitterde in spraakmakende optredens met internationale top artiesten als Daniëlle de Niese\, Ray Chen en Albrecht Mayer\, soleerde met orkest in de grote zaal van het Koninklijk Concertgebouw in Amsterdam en maakte indruk met zijn transcriptie van Mendelssohn’s Vioolconcert in Los Angeles. \nReserveren is verplicht in verband met het Covid-19 virus en er zijn minder plaatsen beschikbaar dan normaal. \nZaal open: 19.30 uur\nKosten: € 20\nReserveren: https://www.florisonstwedder.com/concerten \nVoor info: engelenbak@gmail.com\nTjallien van Loon-de Jong: 06-14255605
URL:https://gasthuiskapel.nl/agenda/floris-friends-2/
CATEGORIES:Cultureel
ORGANIZER;CN="Stichting De Engelenbak Zaltbommel":MAILTO:engelenbak@gmail.com
END:VEVENT
END:VCALENDAR