BEGIN:VCALENDAR
VERSION:2.0
PRODID:-//Gasthuiskapel Zaltbommel - ECPv6.15.20//NONSGML v1.0//EN
CALSCALE:GREGORIAN
METHOD:PUBLISH
X-WR-CALNAME:Gasthuiskapel Zaltbommel
X-ORIGINAL-URL:https://gasthuiskapel.nl
X-WR-CALDESC:Evenementen voor Gasthuiskapel Zaltbommel
REFRESH-INTERVAL;VALUE=DURATION:PT1H
X-Robots-Tag:noindex
X-PUBLISHED-TTL:PT1H
BEGIN:VTIMEZONE
TZID:UTC
BEGIN:STANDARD
TZOFFSETFROM:+0000
TZOFFSETTO:+0000
TZNAME:UTC
DTSTART:20180101T000000
END:STANDARD
END:VTIMEZONE
BEGIN:VEVENT
DTSTART;TZID=UTC:20191104T193000
DTEND;TZID=UTC:20191104T213000
DTSTAMP:20260422T103221
CREATED:20190924T101159Z
LAST-MODIFIED:20190924T101335Z
UID:1036-1572895800-1572903000@gasthuiskapel.nl
SUMMARY:Lezing door kunsthistorica Elizabeth den Hartog over bouwsculpturen en schilderingen
DESCRIPTION:De bekende bouwhistorica Elizabeth den Hartog geeft een lezing over de verdwenen bouwsculptuur van de hervormde kerk in Kerkdriel. Ook vertelt ze over de schilderingen van het leven van Sint-Martinus in het koorgewelf van deze kerk. Na de pauze is er aandacht voor de gewelfschilderingen in de Sint-Maartenskerk van Zaltbommel. \nKunsthistorica Elizabeth den Hartog bestudeert al 32 jaar middeleeuwse sculpturen aan de Universiteit Leiden. Als een ware detective duikt ze gebouwen\, boeken en archieven in\, op zoek naar de culturele betekenis achter bijzondere beeltenissen. \n \nZaal open: 19.00 uur \nEntree: vrijwillige bijdrage
URL:https://gasthuiskapel.nl/agenda/lezing-door-kunsthistorica-elizabeth-den-hartog-over-bouwsculpturen-en-schilderingen/
CATEGORIES:Lezingen
END:VEVENT
END:VCALENDAR