BEGIN:VCALENDAR
VERSION:2.0
PRODID:-//Gasthuiskapel Zaltbommel - ECPv6.15.20//NONSGML v1.0//EN
CALSCALE:GREGORIAN
METHOD:PUBLISH
X-WR-CALNAME:Gasthuiskapel Zaltbommel
X-ORIGINAL-URL:https://gasthuiskapel.nl
X-WR-CALDESC:Evenementen voor Gasthuiskapel Zaltbommel
REFRESH-INTERVAL;VALUE=DURATION:PT1H
X-Robots-Tag:noindex
X-PUBLISHED-TTL:PT1H
BEGIN:VTIMEZONE
TZID:UTC
BEGIN:STANDARD
TZOFFSETFROM:+0000
TZOFFSETTO:+0000
TZNAME:UTC
DTSTART:20250101T000000
END:STANDARD
END:VTIMEZONE
BEGIN:VEVENT
DTSTART;TZID=UTC:20260320T193000
DTEND;TZID=UTC:20260320T213000
DTSTAMP:20260422T103629
CREATED:20260225T093423Z
LAST-MODIFIED:20260225T093423Z
UID:2199-1774035000-1774042200@gasthuiskapel.nl
SUMMARY:Lezing over Historische Atlas van Joan Blaeu
DESCRIPTION:Lezing over Historische Atlas ‘Tooneel der Steden van de Nederlanden’ van Joan Blaeu\n\n\n\n\n \nIn het kader van de Nationale Boekenweek organiseert Museum Stadskasteel Zaltbommel  samen met de Historische Kring Bommelerwaard een lezing over een bijzonder boek uit de museumcollectie. Het ‘Tooneel der Steden van de Nederlanden’ door Joan Blaeu. \nDe Amsterdamse kaartmaker en uitgever Joan Blaeu (ca 1598/99 – 1673) gaf dit prachtige boekwerk kort na de Tachtigjarige Oorlog (1568-1648) uit. \n\n\n\n\n\n\n\n\nIn het boek zijn meer dan 200 plattegronden van Nederlandse steden opgenomen\, waaronder een beroemde plattegrond van Zaltbommel. Bij de plattegronden nam Blaeu een tekst op over de historische wapenfeiten van de Nederlandse steden. En dus ook een beschrijving over de geschiedenis van Zaltbommel. \nDr. Marco van Egmond\, conservator van de Universiteitsbibliotheek Utrecht\, geeft een lezing over dit indrukwekkende boekwerk en zijn context. \n\n\n\n\nZaal open: 19.00 uur \nAanvang: 19:30 uur \nKosten: € 10\,=\, inclusief koffie en thee \nInschrijven: mail naar info@stadskasteelzaltbommel.nl\, geef aan met hoeveel personen u komt\, naam\, e-mailadres en telefoonnummer\, op uw aanmelding ontvangt u een bevestiging met een betaalverzoek. Wanneer wij uw betaling hebben ontvangen\, staat u op de deelnemerslijst. Graag inschrijven vóór woensdag 18 maart.
URL:https://gasthuiskapel.nl/agenda/lezing-over-historische-atlas-van-joan-blaeu/
CATEGORIES:Lezingen
ORGANIZER;CN="Stadskasteel Zaltbommel":MAILTO:info@stadskasteelzaltbommel.nl
END:VEVENT
END:VCALENDAR