BEGIN:VCALENDAR
VERSION:2.0
PRODID:-//Gasthuiskapel Zaltbommel - ECPv6.15.20//NONSGML v1.0//EN
CALSCALE:GREGORIAN
METHOD:PUBLISH
X-WR-CALNAME:Gasthuiskapel Zaltbommel
X-ORIGINAL-URL:https://gasthuiskapel.nl
X-WR-CALDESC:Evenementen voor Gasthuiskapel Zaltbommel
REFRESH-INTERVAL;VALUE=DURATION:PT1H
X-Robots-Tag:noindex
X-PUBLISHED-TTL:PT1H
BEGIN:VTIMEZONE
TZID:UTC
BEGIN:STANDARD
TZOFFSETFROM:+0000
TZOFFSETTO:+0000
TZNAME:UTC
DTSTART:20230101T000000
END:STANDARD
END:VTIMEZONE
BEGIN:VEVENT
DTSTART;TZID=UTC:20241027T160000
DTEND;TZID=UTC:20241027T173000
DTSTAMP:20260422T100831
CREATED:20240930T133350Z
LAST-MODIFIED:20240930T133643Z
UID:1893-1730044800-1730050200@gasthuiskapel.nl
SUMMARY:Pianist Martin Oei speelt Claude Debussy en Maurice Ravel
DESCRIPTION:Claude Debussy en Maurice Ravel \n \nMartin Oei \n\n\n​Martin Oei (1996) begon op zijn negende met piano spelen. Een jaar later nam de Young Musicians Academy van Fontys Conservatorium hem aan. Vanaf dat moment heeft vak-docente Jelena Bazova hem pianoles gegeven. In 2015 startte Oei bij Martyn van den Hoek (winnaar eerste editie Liszt concours) van het Utrechts Conservatorium\, vervolgens kreeg hij les van Henry Kelder. Hij haalde in 2018 zijn bachelor diploma en in 2020 zijn master diploma\, beide cum laude.Oei won vanaf zijn 12 e diverse prijzen (o.a. Prinses Christina Concours\, Jong Muziektalent Nederland\, Young Pianist Foundation\, International Piano competition). De gemeente Culemborg reikte Oei de Jeugdonderscheiding uit ’wegens zijn muzikale (piano) prestaties en de positieve uitstraling op de stad Culemborg’.Op 16 jarige leeftijd werd hij gevraagd de wereldpremière te verzorgen van Beethovens Fantasiesonate\, gereconstrueerd door Cees Nieuwenhuizen in het Koninklijk Concertgebouw. Oei heeft een eigen serie Pianofeesten in het Concertgebouw en trad daar op met Daniel Wayenberg\, Martyn van den Hoek en Klara Wurtz met programma’s voor twee vleugels.​ \nProgramma:\nClaude Debussy (1862-1918) \nuit: Estampes Opus L100                        nr. 3 Jardins sous la pluie  \nuit: Prélude\, Boek I\, Opus L117               nr. 5 Les collines d’anacapri nr. 7 Ce qu’a vu le vent d’ouest nr. 8 La fille aux cheveux de lin nr.12 Minstrels: Modéré  \nMaurice Ravel (1875-1937) \n​Gaspard de la Nuit Op. M55                  nr. 1 Ondine nr. 2 Le Gibetnr. 3 Scarbo \n​La Valse (pianoversie) Opus M72             \n​Zaal open: 15.30 uur\nKosten: € 22\,=\, kinderen tot 18 jaar gratis \nVoor info en reserveringen onder vermelding van het aantal personen en datum: engelenbak@gmail.com\nBetaling: gaarne vooraf betalen door overmaking naar IBAN NL18 RABO 0148 52 95 26 t.n.v. Stichting De Engelenbak\nPasse-partout voor alle 11 concerten 2024 – 2025: € 180\nTjallien van Loon-de Jong: 06-14255605
URL:https://gasthuiskapel.nl/agenda/pianist-martin-oei-speelt-claude-debussy-en-maurice-ravel/
CATEGORIES:Cultureel
ORGANIZER;CN="Stichting De Engelenbak Zaltbommel":MAILTO:engelenbak@gmail.com
END:VEVENT
END:VCALENDAR