BEGIN:VCALENDAR
VERSION:2.0
PRODID:-//Gasthuiskapel Zaltbommel - ECPv6.15.20//NONSGML v1.0//EN
CALSCALE:GREGORIAN
METHOD:PUBLISH
X-WR-CALNAME:Gasthuiskapel Zaltbommel
X-ORIGINAL-URL:https://gasthuiskapel.nl
X-WR-CALDESC:Evenementen voor Gasthuiskapel Zaltbommel
REFRESH-INTERVAL;VALUE=DURATION:PT1H
X-Robots-Tag:noindex
X-PUBLISHED-TTL:PT1H
BEGIN:VTIMEZONE
TZID:UTC
BEGIN:STANDARD
TZOFFSETFROM:+0000
TZOFFSETTO:+0000
TZNAME:UTC
DTSTART:20230101T000000
END:STANDARD
END:VTIMEZONE
BEGIN:VEVENT
DTSTART;TZID=UTC:20240128T160000
DTEND;TZID=UTC:20240128T173000
DTSTAMP:20260422T101558
CREATED:20231219T101212Z
LAST-MODIFIED:20231219T101514Z
UID:1764-1706457600-1706463000@gasthuiskapel.nl
SUMMARY:Trio Rusanovsky
DESCRIPTION:Dvořák\, Wieniawski en meer\n \n\nTrio Rusanovsky bestaat uit Leon Rusanovsky en zijn twee kinderen Julia en Arthur Rusanovsky.  \nHun muziekprogramma’s bestaan uit klassiek repertoire afgewisseld met bekende volksliederen\, tango’s\, improvisatie en eigen composities. Zij presenteren een kleurrijk\, levendig\, melancholisch en emotioneel programma waarbij de viool\, altviool\, piano en gitaar in verschillende combinaties te horen zijn.  \nHet trio treedt op in kleine en grote zalen in binnen- en buitenland\, o.a. in het Concertgebouw van Amsterdam\, de “Grundbuchhalle” in Hamburg en de “Russian American Culture Centre” in New York. Tijdens het staatsbanket in Berlijn hebben twee leden van het ensemble de muzikale omlijsting verzorgd voor het Nederlandse koningspaar en bondspresident Steinmeier. \n​Het programma is als volgt: \n​Antonín Dvořák (1841-1904) – Terzetto in C\, Op. 74 voor twee violen en altviool   \nHenryk Wieniawski (1835-1880) – Etudes-Caprices op. 18 viool en 2e viool ad libitum  \n​My Yiddishe Mama – voor twee violen en altviool  \nOekraïense liederen -voor twee violen en piano \n​Michel Legrand (1932-2019) – Les Parapluies de Cherbourg voor twee violen en piano \n​Carlos Eleta Almarán (1918-2013) – Un Historia de un Amor voor twee violen en gitaar \n​Tumbalalaika – voor twee violen en gitaar \n Zequinha de Abreu (1880-1935) – Tico Tico no Fubá voor twee violen en piano \n\n​Zaal open: 15.30 uur\nKosten: € 22\,=\, kinderen tot 18 jaar gratis\nVoor info en reserveringen onder vermelding van het aantal personen en datum: engelenbak@gmail.com\nBetaling: gaarne vooraf betalen door overmaking naar IBAN NL18 RABO 0148 52 95 26 t.n.v. Stichting De Engelenbak\nTjallien van Loon-de Jong: 06-14255605
URL:https://gasthuiskapel.nl/agenda/trio-rusanovsky/
CATEGORIES:Cultureel
ORGANIZER;CN="Stichting De Engelenbak Zaltbommel":MAILTO:engelenbak@gmail.com
END:VEVENT
END:VCALENDAR