BEGIN:VCALENDAR
VERSION:2.0
PRODID:-//Gasthuiskapel Zaltbommel - ECPv6.15.20//NONSGML v1.0//EN
CALSCALE:GREGORIAN
METHOD:PUBLISH
X-WR-CALNAME:Gasthuiskapel Zaltbommel
X-ORIGINAL-URL:https://gasthuiskapel.nl
X-WR-CALDESC:Evenementen voor Gasthuiskapel Zaltbommel
REFRESH-INTERVAL;VALUE=DURATION:PT1H
X-Robots-Tag:noindex
X-PUBLISHED-TTL:PT1H
BEGIN:VTIMEZONE
TZID:UTC
BEGIN:STANDARD
TZOFFSETFROM:+0000
TZOFFSETTO:+0000
TZNAME:UTC
DTSTART:20210101T000000
END:STANDARD
END:VTIMEZONE
BEGIN:VEVENT
DTSTART;TZID=UTC:20220702T200000
DTEND;TZID=UTC:20220702T223000
DTSTAMP:20260422T103028
CREATED:20220614T082350Z
LAST-MODIFIED:20220614T083243Z
UID:1457-1656792000-1656801000@gasthuiskapel.nl
SUMMARY:Zomer Concert Bosch Blazers Ensemble onder leiding van Marnix van den Berg
DESCRIPTION:Bosch Blazers Ensemble speelt werk van Fuchs\, Dvorák\, Kozeluch en Ravel\nonder leiding van Marnix van den Berg\n \nHet Bosch Blazers Ensemble\, dat is opgericht in 1992\, bestaat uit 10 blazers\, aangevuld met een contrabas. Het is een dubbelkwintet\, dus twee van ieder soort (fluit\, hobo\, klarinet\, fagot en hoorn). De instrumentale samenstelling van dit dubbelkwintet\, ook wel dixtuor genaamd\, garandeert een perfect uitgebalanceerde klankkleur. Het Bosch Blazers Ensemble heeft al veel werken gespeeld op de kleine podia in Brabant en daarbuiten. Momenteel staat het ensemble onder leiding van dirigent Marnix van den Berg\, die de musici op een enthousiaste en inspirerende wijze door de muzikale wereld leidt. \nZaal open: 19.30 uur\nEntree: € 15\,00\, inclusief 2 consumpties\, contant af te rekenen. Er is geen pinapparaat aanwezig.\nKaartverkoop: reserveringen via wilmadorst.265@gmail.com of aan de zaal.
URL:https://gasthuiskapel.nl/agenda/zomer-concert-bosch-blazers-ensemble-onder-leiding-van-marnix-van-den-berg/
CATEGORIES:Cultureel
ORGANIZER;CN="Bosch Blazers Ensemble":MAILTO:boschblazersensemble@gmail.com
END:VEVENT
END:VCALENDAR